BEGIN:VCALENDAR
VERSION:2.0
PRODID: -//Q4 Inc.//EN
METHOD:PUBLISH
BEGIN:VTIMEZONE
TZID:America/New_York
X-LIC-LOCATION:America/New_York
BEGIN:DAYLIGHT
TZOFFSETFROM:-0500
TZOFFSETTO:-0400
TZNAME:EDT
DTSTART:19700308T020000
RRULE:FREQ=YEARLY;BYMONTH=3;BYDAY=2SU
END:DAYLIGHT
BEGIN:STANDARD
TZOFFSETFROM:-0400
TZOFFSETTO:-0500
TZNAME:EST
DTSTART:19701101T020000
RRULE:FREQ=YEARLY;BYMONTH=11;BYDAY=1SU
END:STANDARD
END:VTIMEZONE
BEGIN:VEVENT
ORGANIZER:MAILTO:investor.relations@prudential.com
DTSTART;TZID="America/New_York":20260506T110000
DTEND;TZID="America/New_York":20260506T120000
LOCATION:
UID:d8877b36-ff82-41d1-beb3-d208960776e9
DTSTAMP:20260424T125012
SUMMARY:1Q26 Prudential Financial, Inc. Earnings Conference
DESCRIPTION: View More Information: https://investor.prudential.com/events-and-presentations/event-details/2026/1Q26-Prudential-Financial-Inc-Earnings-Conference/default.aspx
URL;VALUE=URI:https://investor.prudential.com/events-and-presentations/event-details/2026/1Q26-Prudential-Financial-Inc-Earnings-Conference/default.aspx
PRIORITY:5
CLASS:PUBLIC
END:VEVENT
END:VCALENDAR
